OziExplorer Map Data File Version 2.2
Autumn 2014 100k a3.png
\\tsclient\D\Users\Ilya\Туризм\Карты\Maraphon\Autumn14\Autumn 2014 100k A3.png
1 ,Map Code,
Pulkovo 1942 (2),WGS 84, 0.0000, 0.0000,WGS 84
Reserved 1
Reserved 2
Magnetic Variation,,,E
Map Projection,Transverse Mercator,PolyCal,No,AutoCalOnly,No,BSBUseWPX,No
Point01,xy, 117, 235,in, deg, 54,55.84143,N, 83, 5.71316,E, grid, , , ,N
Point02,xy, 4606, 235,in, deg, 54,56.02264,N, 83,41.28114,E, grid, , , ,N
Point03,xy, 4606, 3306,in, deg, 54,42.01005,N, 83,41.37773,E, grid, , , ,N
Point04,xy, 118, 3306,in, deg, 54,41.83890,N, 83, 6.01782,E, grid, , , ,N
Point05,xy, 2480, 1652,in, deg, 54,49.49071,N, 83,24.52874,E, grid, , , ,N
Point06,xy, , ,in, deg, , ,N, , ,W, grid, , , ,N
Point07,xy, , ,in, deg, , ,N, , ,W, grid, , , ,N
Point08,xy, , ,in, deg, , ,N, , ,W, grid, , , ,N
Point09,xy, , ,in, deg, , ,N, , ,W, grid, , , ,N
Point10,xy, , ,in, deg, , ,, , ,, grid, , , ,
Point11,xy, , ,in, deg, , ,, , ,, grid, , , ,
Point12,xy, , ,in, deg, , ,, , ,, grid, , , ,
Point13,xy, , ,in, deg, , ,, , ,, grid, , , ,
Point14,xy, , ,in, deg, , ,, , ,, grid, , , ,
Point15,xy, , ,in, deg, , ,, , ,, grid, , , ,
Point16,xy, , ,in, deg, , ,, , ,, grid, , , ,
Point17,xy, , ,in, deg, , ,, , ,, grid, , , ,
Point18,xy, , ,in, deg, , ,, , ,, grid, , , ,
Point19,xy, , ,in, deg, , ,, , ,, grid, , , ,
Point20,xy, , ,in, deg, , ,, , ,, grid, , , ,
Point21,xy, , ,in, deg, , ,, , ,, grid, , , ,
Point22,xy, , ,in, deg, , ,, , ,, grid, , , ,
Point23,xy, , ,in, deg, , ,, , ,, grid, , , ,
Point24,xy, , ,in, deg, , ,, , ,, grid, , , ,
Point25,xy, , ,in, deg, , ,, , ,, grid, , , ,
Point26,xy, , ,in, deg, , ,, , ,, grid, , , ,
Point27,xy, , ,in, deg, , ,, , ,, grid, , , ,
Point28,xy, , ,in, deg, , ,, , ,, grid, , , ,
Point29,xy, , ,in, deg, , ,, , ,, grid, , , ,
Point30,xy, , ,in, deg, , ,, , ,, grid, , , ,
Projection Setup, 0.000000000, 87.000000000, 1.000000000, 0.00, 0.00,,,,,
Map Feature = MF ; Map Comment = MC These follow if they exist
Track File = TF These follow if they exist
Moving Map Parameters = MM? These follow if they exist
MM0,Yes
MMPNUM,4
MMPXY,1,0,0
MMPXY,2,4842,0
MMPXY,3,4842,3389
MMPXY,4,0,3389
MMPLL,1, 157.398222, 52.144848
MMPLL,2, 149.994208, 53.416457
MMPLL,3, 141.157307, 54.832280
MMPLL,4, 146.112502, 54.062775
MM1B,81.247389
MOP,Map Open Position,0,0
IWH,Map Image Width/Height,4842,3389
